BEGIN:VCALENDAR
VERSION:2.0
PRODID:-//Bonnac-la-côte - ECPv6.15.11//NONSGML v1.0//EN
CALSCALE:GREGORIAN
METHOD:PUBLISH
X-WR-CALNAME:Bonnac-la-côte
X-ORIGINAL-URL:https://www.bonnac-la-cote.fr
X-WR-CALDESC:Évènements pour Bonnac-la-côte
REFRESH-INTERVAL;VALUE=DURATION:PT1H
X-Robots-Tag:noindex
X-PUBLISHED-TTL:PT1H
BEGIN:VTIMEZONE
TZID:Europe/Paris
BEGIN:DAYLIGHT
TZOFFSETFROM:+0100
TZOFFSETTO:+0200
TZNAME:CEST
DTSTART:20250330T010000
END:DAYLIGHT
BEGIN:STANDARD
TZOFFSETFROM:+0200
TZOFFSETTO:+0100
TZNAME:CET
DTSTART:20251026T010000
END:STANDARD
BEGIN:DAYLIGHT
TZOFFSETFROM:+0100
TZOFFSETTO:+0200
TZNAME:CEST
DTSTART:20260329T010000
END:DAYLIGHT
BEGIN:STANDARD
TZOFFSETFROM:+0200
TZOFFSETTO:+0100
TZNAME:CET
DTSTART:20261025T010000
END:STANDARD
BEGIN:DAYLIGHT
TZOFFSETFROM:+0100
TZOFFSETTO:+0200
TZNAME:CEST
DTSTART:20270328T010000
END:DAYLIGHT
BEGIN:STANDARD
TZOFFSETFROM:+0200
TZOFFSETTO:+0100
TZNAME:CET
DTSTART:20271031T010000
END:STANDARD
END:VTIMEZONE
BEGIN:VEVENT
DTSTART;TZID=Europe/Paris:20260423T183000
DTEND;TZID=Europe/Paris:20260423T203000
DTSTAMP:20260423T180035
CREATED:20260423T072554Z
LAST-MODIFIED:20260423T072554Z
UID:4251-1776969000-1776976200@www.bonnac-la-cote.fr
SUMMARY:Conseil Municipal
DESCRIPTION:Le prochain Conseil municipal de Bonnac-la-Côte se tiendra le : \n📅 Jeudi 23 mars 2026\n🕕 18h30\n📍 Salle du Conseil – Mairie de Bonnac-la-Côte \n➡️ Cette séance est ouverte au public.
URL:https://www.bonnac-la-cote.fr/evenement/conseil-municipal/
LOCATION:Mairie\, 10 rue de la mazelle\, Bonnac-la-côte\, 87270\, France
CATEGORIES:Mairie
ATTACH;FMTTYPE=image/jpeg:https://www.bonnac-la-cote.fr/wp-content/uploads/2026/04/651559056_1382331127257622_3221682818540966529_n.jpg
ORGANIZER;CN="Mairie de Bonnac-la-C%C3%B4te":MAILTO:mairie.bonnac@wanadoo.fr
END:VEVENT
END:VCALENDAR